BEGIN:VCALENDAR
PRODID:NaylorAMS
VERSION:2.0
BEGIN:VEVENT
DTSTAMP:20260422T062700
UID:62
URL:https://www.ahtd.org/ev_calendar_day.asp?eventid=62
DTSTART;TZID=Eastern:20250409T150000
DTEND;TZID=Eastern:20250411T235900
SUMMARY:2025 Spring Meeting
DESCRIPTION:2025 Spring Meeting\nFor details, link here: https://www.ahtd.org/ev_calendar_day.asp?eventid=62
LOCATION:265 Peachtree Center Avenue Atlanta, GA US 30303
END:VEVENT
BEGIN:VTIMEZONE
TZID:Eastern
BEGIN:STANDARD
DTSTART:20071104T020000
RRULE:FREQ=YEARLY;BYMONTH=11;BYDAY=1SU
TZOFFSETFROM:-0400
TZOFFSETTO:-0500
TZNAME:EST
END:STANDARD
BEGIN:DAYLIGHT
DTSTART:20070311T020000
RRULE:FREQ=YEARLY;BYMONTH=3;BYDAY=2SU
TZOFFSETFROM:-0500
TZOFFSETTO:-0400
TZNAME:EDT
END:DAYLIGHT
END:VTIMEZONE
END:VCALENDAR
